BEGIN:VCALENDAR
VERSION:2.0
PRODID:-//https://www.daiquirideck.cdmsrq.info///NONSGML kigkonsult.se iCalcreator 2.10.15//
METHOD:PUBLISH
BEGIN:VEVENT
UID:20260422T165753UTC-4783xNUMkE@https://www.daiquirideck.cdmsrq.info/
DTSTAMP:20260422T165753Z
DESCRIPTION: https://www.daiquirideck.cdmsrq.info/component/rseventspro/eve
 nt/4175-5p-matt-federici?Itemid=101
DTSTART;VALUE=DATE:20260502
LOCATION:Daiquiri Deck Bradenton Beach (107 Bridge St\, Bradenton Beach\, F
 L 34217)
SUMMARY:5p Matt Federici
URL:https://www.daiquirideck.cdmsrq.info/component/rseventspro/event/4175-5
 p-matt-federici?Itemid=101
END:VEVENT
END:VCALENDAR
