BEGIN:VCALENDAR
VERSION:2.0
PRODID:-//https://www.daiquirideck.cdmsrq.info///NONSGML kigkonsult.se iCalcreator 2.10.15//
METHOD:PUBLISH
BEGIN:VEVENT
UID:20260422T181816UTC-5988NJL8W6@https://www.daiquirideck.cdmsrq.info/
DTSTAMP:20260422T181816Z
DESCRIPTION: https://www.daiquirideck.cdmsrq.info/component/rseventspro/eve
 nt/4166-7p-aaron-kelly?Itemid=101
DTSTART;VALUE=DATE:20260502
LOCATION:Daiquiri Deck Island of Venice (300 W Venice Ave\, Venice\, FL 342
 85)
SUMMARY:7p Aaron Kelly
URL:https://www.daiquirideck.cdmsrq.info/component/rseventspro/event/4166-7
 p-aaron-kelly?Itemid=101
END:VEVENT
END:VCALENDAR
