BEGIN:VCALENDAR
VERSION:2.0
PRODID:-//https://www.daiquirideck.cdmsrq.info///NONSGML kigkonsult.se iCalcreator 2.10.15//
METHOD:PUBLISH
BEGIN:VEVENT
UID:20260422T175934UTC-2886CUsXSx@https://www.daiquirideck.cdmsrq.info/
DTSTAMP:20260422T175934Z
DESCRIPTION: https://www.daiquirideck.cdmsrq.info/component/rseventspro/eve
 nt/4164-5pm-chad-tallman?Itemid=101
DTSTART;VALUE=DATE:20260512
LOCATION:Daiquiri Deck Bradenton Beach (107 Bridge St\, Bradenton Beach\, F
 L 34217)
SUMMARY:5pm Chad Tallman
URL:https://www.daiquirideck.cdmsrq.info/component/rseventspro/event/4164-5
 pm-chad-tallman?Itemid=101
END:VEVENT
END:VCALENDAR
