BEGIN:VCALENDAR
VERSION:2.0
PRODID:-//https://www.daiquirideck.cdmsrq.info///NONSGML kigkonsult.se iCalcreator 2.10.15//
METHOD:PUBLISH
BEGIN:VEVENT
UID:20260422T180056UTC-6794jIJXsj@https://www.daiquirideck.cdmsrq.info/
DTSTAMP:20260422T180056Z
DESCRIPTION: https://www.daiquirideck.cdmsrq.info/component/rseventspro/eve
 nt/4157-12p-groove-circle?Itemid=101
DTSTART;VALUE=DATE:20260525
LOCATION:Daiquiri Deck Island of Venice (300 W Venice Ave\, Venice\, FL 342
 85)
SUMMARY:12p Groove Circle
URL:https://www.daiquirideck.cdmsrq.info/component/rseventspro/event/4157-1
 2p-groove-circle?Itemid=101
END:VEVENT
END:VCALENDAR
