BEGIN:VCALENDAR
VERSION:2.0
PRODID:-//https://www.daiquirideck.cdmsrq.info///NONSGML kigkonsult.se iCalcreator 2.10.15//
METHOD:PUBLISH
BEGIN:VEVENT
UID:20260423T222043UTC-756331K2kv@https://www.daiquirideck.cdmsrq.info/
DTSTAMP:20260423T222043Z
DESCRIPTION: https://www.daiquirideck.cdmsrq.info/component/rseventspro/eve
 nt/4143-4p-ryan-judy?Itemid=101
DTSTART;VALUE=DATE:20260511
LOCATION:Daiquiri Deck Island of Venice (300 W Venice Ave\, Venice\, FL 342
 85)
SUMMARY:4p Ryan Judy
URL:https://www.daiquirideck.cdmsrq.info/component/rseventspro/event/4143-4
 p-ryan-judy?Itemid=101
END:VEVENT
END:VCALENDAR
