BEGIN:VCALENDAR
VERSION:2.0
PRODID:-//https://www.daiquirideck.cdmsrq.info///NONSGML kigkonsult.se iCalcreator 2.10.15//
METHOD:PUBLISH
BEGIN:VEVENT
UID:20260422T181152UTC-40516Wlvoo@https://www.daiquirideck.cdmsrq.info/
DTSTAMP:20260422T181152Z
DESCRIPTION: https://www.daiquirideck.cdmsrq.info/component/rseventspro/eve
 nt/4132-4p-gulf-coastin-life?Itemid=101
DTSTART;VALUE=DATE:20260531
LOCATION:Daiquiri Deck Bradenton Beach (107 Bridge St\, Bradenton Beach\, F
 L 34217)
SUMMARY:4p Gulf Coastin.Life
URL:https://www.daiquirideck.cdmsrq.info/component/rseventspro/event/4132-4
 p-gulf-coastin-life?Itemid=101
END:VEVENT
END:VCALENDAR
