BEGIN:VCALENDAR
VERSION:2.0
PRODID:-//https://www.daiquirideck.cdmsrq.info///NONSGML kigkonsult.se iCalcreator 2.10.15//
METHOD:PUBLISH
BEGIN:VEVENT
UID:20260422T193355UTC-58781wV5ug@https://www.daiquirideck.cdmsrq.info/
DTSTAMP:20260422T193355Z
DESCRIPTION: https://www.daiquirideck.cdmsrq.info/component/rseventspro/eve
 nt/4107-5pm-chad-tallman?Itemid=101
DTSTART;VALUE=DATE:20260505
LOCATION:Daiquiri Deck Bradenton Beach (107 Bridge St\, Bradenton Beach\, F
 L 34217)
SUMMARY:5pm Chad Tallman
URL:https://www.daiquirideck.cdmsrq.info/component/rseventspro/event/4107-5
 pm-chad-tallman?Itemid=101
END:VEVENT
END:VCALENDAR
