BEGIN:VCALENDAR
VERSION:2.0
PRODID:-//https://www.daiquirideck.cdmsrq.info///NONSGML kigkonsult.se iCalcreator 2.10.15//
METHOD:PUBLISH
BEGIN:VEVENT
UID:20260422T180910UTC-8552luvvtE@https://www.daiquirideck.cdmsrq.info/
DTSTAMP:20260422T180910Z
DESCRIPTION: https://www.daiquirideck.cdmsrq.info/component/rseventspro/eve
 nt/4106-3p-j-santi?Itemid=101
DTSTART;VALUE=DATE:20260504
LOCATION:Daiquiri Deck Bradenton Beach (107 Bridge St\, Bradenton Beach\, F
 L 34217)
SUMMARY:3p J Santi
URL:https://www.daiquirideck.cdmsrq.info/component/rseventspro/event/4106-3
 p-j-santi?Itemid=101
END:VEVENT
END:VCALENDAR
