BEGIN:VCALENDAR
VERSION:2.0
PRODID:-//https://www.daiquirideck.cdmsrq.info///NONSGML kigkonsult.se iCalcreator 2.10.15//
METHOD:PUBLISH
BEGIN:VEVENT
UID:20260422T181149UTC-1711Sup8MX@https://www.daiquirideck.cdmsrq.info/
DTSTAMP:20260422T181149Z
DESCRIPTION: https://www.daiquirideck.cdmsrq.info/component/rseventspro/eve
 nt/4094-12p-frankie-lombardi?Itemid=101
DTSTART;VALUE=DATE:20260525
LOCATION:Daiquiri Deck St. Armands Circle (325 John Ringling Blvd\, Sarasot
 a\, FL 34236)
SUMMARY:12p Frankie Lombardi
URL:https://www.daiquirideck.cdmsrq.info/component/rseventspro/event/4094-1
 2p-frankie-lombardi?Itemid=101
END:VEVENT
END:VCALENDAR
