BEGIN:VCALENDAR
VERSION:2.0
PRODID:-//https://www.daiquirideck.cdmsrq.info///NONSGML kigkonsult.se iCalcreator 2.10.15//
METHOD:PUBLISH
BEGIN:VEVENT
UID:20260422T175053UTC-74727li8wV@https://www.daiquirideck.cdmsrq.info/
DTSTAMP:20260422T175053Z
DESCRIPTION: https://www.daiquirideck.cdmsrq.info/component/rseventspro/eve
 nt/4087-5p-matt-gerhardt?Itemid=101
DTSTART;VALUE=DATE:20260520
LOCATION:Daiquiri Deck St. Armands Circle (325 John Ringling Blvd\, Sarasot
 a\, FL 34236)
SUMMARY:5p Matt Gerhardt
URL:https://www.daiquirideck.cdmsrq.info/component/rseventspro/event/4087-5
 p-matt-gerhardt?Itemid=101
END:VEVENT
END:VCALENDAR
