BEGIN:VCALENDAR
VERSION:2.0
PRODID:-//https://www.daiquirideck.cdmsrq.info///NONSGML kigkonsult.se iCalcreator 2.10.15//
METHOD:PUBLISH
BEGIN:VEVENT
UID:20260423T215248UTC-5797gcRtBk@https://www.daiquirideck.cdmsrq.info/
DTSTAMP:20260423T215248Z
DESCRIPTION: https://www.daiquirideck.cdmsrq.info/component/rseventspro/eve
 nt/4076-12p-frankie-lombardi?Itemid=101
DTSTART;VALUE=DATE:20260511
LOCATION:Daiquiri Deck St. Armands Circle (325 John Ringling Blvd\, Sarasot
 a\, FL 34236)
SUMMARY:12p Frankie Lombardi
URL:https://www.daiquirideck.cdmsrq.info/component/rseventspro/event/4076-1
 2p-frankie-lombardi?Itemid=101
END:VEVENT
END:VCALENDAR
