BEGIN:VCALENDAR
VERSION:2.0
PRODID:-//https://www.daiquirideck.cdmsrq.info///NONSGML kigkonsult.se iCalcreator 2.10.15//
METHOD:PUBLISH
BEGIN:VEVENT
UID:20260422T162937UTC-3191uhhMku@https://www.daiquirideck.cdmsrq.info/
DTSTAMP:20260422T162937Z
DESCRIPTION: https://www.daiquirideck.cdmsrq.info/component/rseventspro/eve
 nt/4064-11a-gary-alexander?Itemid=101
DTSTART;VALUE=DATE:20260502
LOCATION:Daiquiri Deck St. Armands Circle (325 John Ringling Blvd\, Sarasot
 a\, FL 34236)
SUMMARY:11a Gary Alexander  
URL:https://www.daiquirideck.cdmsrq.info/component/rseventspro/event/4064-1
 1a-gary-alexander?Itemid=101
END:VEVENT
END:VCALENDAR
