BEGIN:VCALENDAR
VERSION:2.0
PRODID:-//https://www.daiquirideck.cdmsrq.info///NONSGML kigkonsult.se iCalcreator 2.10.15//
METHOD:PUBLISH
BEGIN:VEVENT
UID:20260422T180818UTC-7176pkgH6w@https://www.daiquirideck.cdmsrq.info/
DTSTAMP:20260422T180818Z
DESCRIPTION: https://www.daiquirideck.cdmsrq.info/component/rseventspro/eve
 nt/4046-5p-chris-otto?Itemid=101
DTSTART;VALUE=DATE:20260516
LOCATION:Daiquiri Deck South Siesta Key (1250 Stickney Point Rd\, Siesta Ke
 y\, FL 34242)
SUMMARY: 5p Chris Otto 
URL:https://www.daiquirideck.cdmsrq.info/component/rseventspro/event/4046-5
 p-chris-otto?Itemid=101
END:VEVENT
END:VCALENDAR
