BEGIN:VCALENDAR
VERSION:2.0
PRODID:-//https://www.daiquirideck.cdmsrq.info///NONSGML kigkonsult.se iCalcreator 2.10.15//
METHOD:PUBLISH
BEGIN:VEVENT
UID:20260423T204818UTC-4914MsbDSm@https://www.daiquirideck.cdmsrq.info/
DTSTAMP:20260423T204818Z
DESCRIPTION: https://www.daiquirideck.cdmsrq.info/component/rseventspro/eve
 nt/4039-5p-joey-d?Itemid=101
DTSTART;VALUE=DATE:20260510
LOCATION:Daiquiri Deck South Siesta Key (1250 Stickney Point Rd\, Siesta Ke
 y\, FL 34242)
SUMMARY:5p Joey D
URL:https://www.daiquirideck.cdmsrq.info/component/rseventspro/event/4039-5
 p-joey-d?Itemid=101
END:VEVENT
END:VCALENDAR
