BEGIN:VCALENDAR
VERSION:2.0
PRODID:-//https://www.daiquirideck.cdmsrq.info///NONSGML kigkonsult.se iCalcreator 2.10.15//
METHOD:PUBLISH
BEGIN:VEVENT
UID:20260423T231155UTC-1393kKipvT@https://www.daiquirideck.cdmsrq.info/
DTSTAMP:20260423T231155Z
DESCRIPTION: https://www.daiquirideck.cdmsrq.info/component/rseventspro/eve
 nt/4038-5p-sean-adam-walsh?Itemid=101
DTSTART;VALUE=DATE:20260509
LOCATION:Daiquiri Deck South Siesta Key (1250 Stickney Point Rd\, Siesta Ke
 y\, FL 34242)
SUMMARY: 5p Sean Adam Walsh
URL:https://www.daiquirideck.cdmsrq.info/component/rseventspro/event/4038-5
 p-sean-adam-walsh?Itemid=101
END:VEVENT
END:VCALENDAR
