BEGIN:VCALENDAR
VERSION:2.0
PRODID:-//https://www.daiquirideck.cdmsrq.info///NONSGML kigkonsult.se iCalcreator 2.10.15//
METHOD:PUBLISH
BEGIN:VEVENT
UID:20260422T181224UTC-3595li0H5c@https://www.daiquirideck.cdmsrq.info/
DTSTAMP:20260422T181224Z
DESCRIPTION: https://www.daiquirideck.cdmsrq.info/component/rseventspro/eve
 nt/4021-8p-dj-sam-the-bull-karaoke?Itemid=101
DTSTART;VALUE=DATE:20260527
LOCATION:Daiquiri Deck Siesta Key Village (5250 Ocean Blvd\, Sarasota\, FL 
 34242)
SUMMARY:  8p DJ Sam the Bull Karaoke
URL:https://www.daiquirideck.cdmsrq.info/component/rseventspro/event/4021-8
 p-dj-sam-the-bull-karaoke?Itemid=101
END:VEVENT
END:VCALENDAR
