BEGIN:VCALENDAR
VERSION:2.0
PRODID:-//https://www.daiquirideck.cdmsrq.info///NONSGML kigkonsult.se iCalcreator 2.10.15//
METHOD:PUBLISH
BEGIN:VEVENT
UID:20260423T173902UTC-7463TcLUsG@https://www.daiquirideck.cdmsrq.info/
DTSTAMP:20260423T173902Z
DESCRIPTION: https://www.daiquirideck.cdmsrq.info/component/rseventspro/eve
 nt/3995-9p-dj-truth?Itemid=101
DTSTART;VALUE=DATE:20260508
LOCATION:Daiquiri Deck Siesta Key Village (5250 Ocean Blvd\, Sarasota\, FL 
 34242)
SUMMARY:9p DJ Truth
URL:https://www.daiquirideck.cdmsrq.info/component/rseventspro/event/3995-9
 p-dj-truth?Itemid=101
END:VEVENT
END:VCALENDAR
