BEGIN:VCALENDAR
VERSION:2.0
PRODID:-//https://www.daiquirideck.cdmsrq.info///NONSGML kigkonsult.se iCalcreator 2.10.15//
METHOD:PUBLISH
BEGIN:VEVENT
UID:20260423T174020UTC-10505bL2vH@https://www.daiquirideck.cdmsrq.info/
DTSTAMP:20260423T174020Z
DESCRIPTION: https://www.daiquirideck.cdmsrq.info/component/rseventspro/eve
 nt/3994-3p-jimmy-t?Itemid=101
DTSTART;VALUE=DATE:20260508
LOCATION:Daiquiri Deck Siesta Key Village (5250 Ocean Blvd\, Sarasota\, FL 
 34242)
SUMMARY:3p    Jimmy T
URL:https://www.daiquirideck.cdmsrq.info/component/rseventspro/event/3994-3
 p-jimmy-t?Itemid=101
END:VEVENT
END:VCALENDAR
