BEGIN:VCALENDAR
VERSION:2.0
PRODID:-//https://www.daiquirideck.cdmsrq.info///NONSGML kigkonsult.se iCalcreator 2.10.15//
METHOD:PUBLISH
BEGIN:VEVENT
UID:20260423T155211UTC-5401gKN2iz@https://www.daiquirideck.cdmsrq.info/
DTSTAMP:20260423T155211Z
DESCRIPTION: https://www.daiquirideck.cdmsrq.info/component/rseventspro/eve
 nt/3992-3p-rob-garcia?Itemid=101
DTSTART;VALUE=DATE:20260507
LOCATION:Daiquiri Deck Siesta Key Village (5250 Ocean Blvd\, Sarasota\, FL 
 34242)
SUMMARY:3p Rob Garcia 
URL:https://www.daiquirideck.cdmsrq.info/component/rseventspro/event/3992-3
 p-rob-garcia?Itemid=101
END:VEVENT
END:VCALENDAR
