BEGIN:VCALENDAR
VERSION:2.0
PRODID:-//https://www.daiquirideck.cdmsrq.info///NONSGML kigkonsult.se iCalcreator 2.10.15//
METHOD:PUBLISH
BEGIN:VEVENT
UID:20260422T165243UTC-5794JfBfK0@https://www.daiquirideck.cdmsrq.info/
DTSTAMP:20260422T165243Z
DESCRIPTION: https://www.daiquirideck.cdmsrq.info/component/rseventspro/eve
 nt/3982-3p-lynn-andrew-duo?Itemid=101
DTSTART;VALUE=DATE:20260501
LOCATION:Daiquiri Deck Siesta Key Village (5250 Ocean Blvd\, Sarasota\, FL 
 34242)
SUMMARY:3p Lynn & Andrew Duo  
URL:https://www.daiquirideck.cdmsrq.info/component/rseventspro/event/3982-3
 p-lynn-andrew-duo?Itemid=101
END:VEVENT
END:VCALENDAR
