BEGIN:VCALENDAR
VERSION:2.0
PRODID:-//https://www.daiquirideck.cdmsrq.info///NONSGML kigkonsult.se iCalcreator 2.10.15//
METHOD:PUBLISH
BEGIN:VEVENT
UID:20260422T152024UTC-9701OZCtZB@https://www.daiquirideck.cdmsrq.info/
DTSTAMP:20260422T152024Z
DESCRIPTION: https://www.daiquirideck.cdmsrq.info/component/rseventspro/eve
 nt/3976-3p-carmen-forte?Itemid=101
DTSTART;VALUE=DATE:20260426
LOCATION:Daiquiri Deck Siesta Key Village (5250 Ocean Blvd\, Sarasota\, FL 
 34242)
SUMMARY:3p Carmen Forte
URL:https://www.daiquirideck.cdmsrq.info/component/rseventspro/event/3976-3
 p-carmen-forte?Itemid=101
END:VEVENT
END:VCALENDAR
