BEGIN:VCALENDAR
VERSION:2.0
PRODID:-//https://www.daiquirideck.cdmsrq.info///NONSGML kigkonsult.se iCalcreator 2.10.15//
METHOD:PUBLISH
BEGIN:VEVENT
UID:20260422T152654UTC-4000J6anPM@https://www.daiquirideck.cdmsrq.info/
DTSTAMP:20260422T152654Z
DESCRIPTION: https://www.daiquirideck.cdmsrq.info/component/rseventspro/eve
 nt/3931-12p-courtney-opsatnik?Itemid=101
DTSTART;VALUE=DATE:20260426
LOCATION:Daiquiri Deck Island of Venice (300 W Venice Ave\, Venice\, FL 342
 85)
SUMMARY:12p Courtney Opsatnik
URL:https://www.daiquirideck.cdmsrq.info/component/rseventspro/event/3931-1
 2p-courtney-opsatnik?Itemid=101
END:VEVENT
END:VCALENDAR
