BEGIN:VCALENDAR
VERSION:2.0
PRODID:-//https://www.daiquirideck.cdmsrq.info///NONSGML kigkonsult.se iCalcreator 2.10.15//
METHOD:PUBLISH
BEGIN:VEVENT
UID:20260422T151139UTC-70424ArvdD@https://www.daiquirideck.cdmsrq.info/
DTSTAMP:20260422T151139Z
DESCRIPTION: https://www.daiquirideck.cdmsrq.info/component/rseventspro/eve
 nt/3904-6p-logan-obrien?Itemid=101
DTSTART;VALUE=DATE:20260430
LOCATION:Daiquiri Deck Bradenton Beach (107 Bridge St\, Bradenton Beach\, F
 L 34217)
SUMMARY:6p Logan O'Brien
URL:https://www.daiquirideck.cdmsrq.info/component/rseventspro/event/3904-6
 p-logan-obrien?Itemid=101
END:VEVENT
END:VCALENDAR
