BEGIN:VCALENDAR
VERSION:2.0
PRODID:-//https://www.daiquirideck.cdmsrq.info///NONSGML kigkonsult.se iCalcreator 2.10.15//
METHOD:PUBLISH
BEGIN:VEVENT
UID:20260422T152024UTC-7766WpPfDU@https://www.daiquirideck.cdmsrq.info/
DTSTAMP:20260422T152024Z
DESCRIPTION: https://www.daiquirideck.cdmsrq.info/component/rseventspro/eve
 nt/3902-3p-john-santiago?Itemid=101
DTSTART;VALUE=DATE:20260428
LOCATION:Daiquiri Deck Bradenton Beach (107 Bridge St\, Bradenton Beach\, F
 L 34217)
SUMMARY:3p John Santiago
URL:https://www.daiquirideck.cdmsrq.info/component/rseventspro/event/3902-3
 p-john-santiago?Itemid=101
END:VEVENT
END:VCALENDAR
