BEGIN:VCALENDAR
VERSION:2.0
PRODID:-//https://www.daiquirideck.cdmsrq.info///NONSGML kigkonsult.se iCalcreator 2.10.15//
METHOD:PUBLISH
BEGIN:VEVENT
UID:20260422T165053UTC-5128z7A5Z6@https://www.daiquirideck.cdmsrq.info/
DTSTAMP:20260422T165053Z
DESCRIPTION: https://www.daiquirideck.cdmsrq.info/component/rseventspro/eve
 nt/3895-5p-chad-tallman?Itemid=101
DTSTART;VALUE=DATE:20260421
LOCATION:Daiquiri Deck Bradenton Beach (107 Bridge St\, Bradenton Beach\, F
 L 34217)
SUMMARY:5p Chad Tallman
URL:https://www.daiquirideck.cdmsrq.info/component/rseventspro/event/3895-5
 p-chad-tallman?Itemid=101
END:VEVENT
END:VCALENDAR
