BEGIN:VCALENDAR
VERSION:2.0
PRODID:-//https://www.daiquirideck.cdmsrq.info///NONSGML kigkonsult.se iCalcreator 2.10.15//
METHOD:PUBLISH
BEGIN:VEVENT
UID:20260422T152104UTC-1633rV9Zkv@https://www.daiquirideck.cdmsrq.info/
DTSTAMP:20260422T152104Z
DESCRIPTION: https://www.daiquirideck.cdmsrq.info/component/rseventspro/eve
 nt/3871-12p-bain-beakley?Itemid=101
DTSTART;VALUE=DATE:20260428
LOCATION:Daiquiri Deck St. Armands Circle (325 John Ringling Blvd\, Sarasot
 a\, FL 34236)
SUMMARY:12p Bain Beakley
URL:https://www.daiquirideck.cdmsrq.info/component/rseventspro/event/3871-1
 2p-bain-beakley?Itemid=101
END:VEVENT
END:VCALENDAR
