BEGIN:VCALENDAR
VERSION:2.0
PRODID:-//https://www.daiquirideck.cdmsrq.info///NONSGML kigkonsult.se iCalcreator 2.10.15//
METHOD:PUBLISH
BEGIN:VEVENT
UID:20260422T151140UTC-1993ovau7T@https://www.daiquirideck.cdmsrq.info/
DTSTAMP:20260422T151140Z
DESCRIPTION: https://www.daiquirideck.cdmsrq.info/component/rseventspro/eve
 nt/3864-5p-matt-gerhardt?Itemid=101
DTSTART;VALUE=DATE:20260422
LOCATION:Daiquiri Deck St. Armands Circle (325 John Ringling Blvd\, Sarasot
 a\, FL 34236)
SUMMARY:5p Matt Gerhardt
URL:https://www.daiquirideck.cdmsrq.info/component/rseventspro/event/3864-5
 p-matt-gerhardt?Itemid=101
END:VEVENT
END:VCALENDAR
