BEGIN:VCALENDAR
VERSION:2.0
PRODID:-//https://www.daiquirideck.cdmsrq.info///NONSGML kigkonsult.se iCalcreator 2.10.15//
METHOD:PUBLISH
BEGIN:VEVENT
UID:20260422T152026UTC-0731oUVbxs@https://www.daiquirideck.cdmsrq.info/
DTSTAMP:20260422T152026Z
DESCRIPTION: https://www.daiquirideck.cdmsrq.info/component/rseventspro/eve
 nt/3834-5p-jake-ariel?Itemid=101
DTSTART;VALUE=DATE:20260427
LOCATION:Daiquiri Deck South Siesta Key (1250 Stickney Point Rd\, Siesta Ke
 y\, FL 34242)
SUMMARY:5p Jake & Ariel
URL:https://www.daiquirideck.cdmsrq.info/component/rseventspro/event/3834-5
 p-jake-ariel?Itemid=101
END:VEVENT
END:VCALENDAR
