BEGIN:VCALENDAR
VERSION:2.0
PRODID:-//https://www.daiquirideck.cdmsrq.info///NONSGML kigkonsult.se iCalcreator 2.10.15//
METHOD:PUBLISH
BEGIN:VEVENT
UID:20260422T162938UTC-2388j2LP5t@https://www.daiquirideck.cdmsrq.info/
DTSTAMP:20260422T162938Z
DESCRIPTION: https://www.daiquirideck.cdmsrq.info/component/rseventspro/eve
 nt/4027-9p-dj-sam-the-bull?Itemid=101
DTSTART;VALUE=DATE:20260530
LOCATION:Daiquiri Deck Siesta Key Village (5250 Ocean Blvd\, Sarasota\, FL 
 34242)
SUMMARY: 9p DJ Sam the Bull
URL:https://www.daiquirideck.cdmsrq.info/component/rseventspro/event/4027-9
 p-dj-sam-the-bull?Itemid=101
END:VEVENT
BEGIN:VEVENT
UID:20260422T162938UTC-2390SSPHTA@https://www.daiquirideck.cdmsrq.info/
DTSTAMP:20260422T162938Z
DESCRIPTION: https://www.daiquirideck.cdmsrq.info/component/rseventspro/eve
 nt/4028-3p-wayne-delair?Itemid=101
DTSTART;VALUE=DATE:20260531
LOCATION:Daiquiri Deck Siesta Key Village (5250 Ocean Blvd\, Sarasota\, FL 
 34242)
SUMMARY:3p Wayne Delair
URL:https://www.daiquirideck.cdmsrq.info/component/rseventspro/event/4028-3
 p-wayne-delair?Itemid=101
END:VEVENT
BEGIN:VEVENT
UID:20260422T162938UTC-2391VMrbkU@https://www.daiquirideck.cdmsrq.info/
DTSTAMP:20260422T162938Z
DESCRIPTION: https://www.daiquirideck.cdmsrq.info/component/rseventspro/eve
 nt/4060-12p-brian-mansano?Itemid=101
DTSTART;VALUE=DATE:20260530
LOCATION:Daiquiri Deck South Siesta Key (1250 Stickney Point Rd\, Siesta Ke
 y\, FL 34242)
SUMMARY:12p Brian Mansano  
URL:https://www.daiquirideck.cdmsrq.info/component/rseventspro/event/4060-1
 2p-brian-mansano?Itemid=101
END:VEVENT
BEGIN:VEVENT
UID:20260422T162938UTC-2392Tcav40@https://www.daiquirideck.cdmsrq.info/
DTSTAMP:20260422T162938Z
DESCRIPTION: https://www.daiquirideck.cdmsrq.info/component/rseventspro/eve
 nt/4061-5p-joey-d?Itemid=101
DTSTART;VALUE=DATE:20260530
LOCATION:Daiquiri Deck South Siesta Key (1250 Stickney Point Rd\, Siesta Ke
 y\, FL 34242)
SUMMARY: 5p Joey D 
URL:https://www.daiquirideck.cdmsrq.info/component/rseventspro/event/4061-5
 p-joey-d?Itemid=101
END:VEVENT
BEGIN:VEVENT
UID:20260422T162938UTC-2393x14Ut0@https://www.daiquirideck.cdmsrq.info/
DTSTAMP:20260422T162938Z
DESCRIPTION: https://www.daiquirideck.cdmsrq.info/component/rseventspro/eve
 nt/4100-11a-gary-alexander?Itemid=101
DTSTART;VALUE=DATE:20260530
LOCATION:Daiquiri Deck St. Armands Circle (325 John Ringling Blvd\, Sarasot
 a\, FL 34236)
SUMMARY:11a Gary Alexander  
URL:https://www.daiquirideck.cdmsrq.info/component/rseventspro/event/4100-1
 1a-gary-alexander?Itemid=101
END:VEVENT
BEGIN:VEVENT
UID:20260422T162938UTC-2395BACaxT@https://www.daiquirideck.cdmsrq.info/
DTSTAMP:20260422T162938Z
DESCRIPTION: https://www.daiquirideck.cdmsrq.info/component/rseventspro/eve
 nt/4102-3p-florida-keys-piano-show?Itemid=101
DTSTART;VALUE=DATE:20260531
LOCATION:Daiquiri Deck St. Armands Circle (325 John Ringling Blvd\, Sarasot
 a\, FL 34236)
SUMMARY:3p Florida Keys Piano Show
URL:https://www.daiquirideck.cdmsrq.info/component/rseventspro/event/4102-3
 p-florida-keys-piano-show?Itemid=101
END:VEVENT
BEGIN:VEVENT
UID:20260422T162938UTC-2396pwUPEk@https://www.daiquirideck.cdmsrq.info/
DTSTAMP:20260422T162938Z
DESCRIPTION: https://www.daiquirideck.cdmsrq.info/component/rseventspro/eve
 nt/4132-4p-gulf-coastin-life?Itemid=101
DTSTART;VALUE=DATE:20260531
LOCATION:Daiquiri Deck Bradenton Beach (107 Bridge St\, Bradenton Beach\, F
 L 34217)
SUMMARY:4p Gulf Coastin.Life
URL:https://www.daiquirideck.cdmsrq.info/component/rseventspro/event/4132-4
 p-gulf-coastin-life?Itemid=101
END:VEVENT
BEGIN:VEVENT
UID:20260422T162938UTC-2397MLoMoK@https://www.daiquirideck.cdmsrq.info/
DTSTAMP:20260422T162938Z
DESCRIPTION: https://www.daiquirideck.cdmsrq.info/component/rseventspro/eve
 nt/4163-5p-nathaniel-lee-white?Itemid=101
DTSTART;VALUE=DATE:20260531
LOCATION:Daiquiri Deck Island of Venice (300 W Venice Ave\, Venice\, FL 342
 85)
SUMMARY:5p Nathaniel Lee White
URL:https://www.daiquirideck.cdmsrq.info/component/rseventspro/event/4163-5
 p-nathaniel-lee-white?Itemid=101
END:VEVENT
BEGIN:VEVENT
UID:20260422T162938UTC-2399fLS1iG@https://www.daiquirideck.cdmsrq.info/
DTSTAMP:20260422T162938Z
DESCRIPTION: https://www.daiquirideck.cdmsrq.info/component/rseventspro/eve
 nt/4173-12p-jake-ariel?Itemid=101
DTSTART;VALUE=DATE:20260530
LOCATION:Daiquiri Deck Island of Venice (300 W Venice Ave\, Venice\, FL 342
 85)
SUMMARY:12p Jake & Ariel
URL:https://www.daiquirideck.cdmsrq.info/component/rseventspro/event/4173-1
 2p-jake-ariel?Itemid=101
END:VEVENT
BEGIN:VEVENT
UID:20260422T162938UTC-24007kpvt1@https://www.daiquirideck.cdmsrq.info/
DTSTAMP:20260422T162938Z
DESCRIPTION: https://www.daiquirideck.cdmsrq.info/component/rseventspro/eve
 nt/4174-7p-aaron-kelly?Itemid=101
DTSTART;VALUE=DATE:20260530
LOCATION:Daiquiri Deck Island of Venice (300 W Venice Ave\, Venice\, FL 342
 85)
SUMMARY: 7p Aaron Kelly
URL:https://www.daiquirideck.cdmsrq.info/component/rseventspro/event/4174-7
 p-aaron-kelly?Itemid=101
END:VEVENT
END:VCALENDAR
